BEGIN:VCALENDAR
VERSION:2.0
PRODID:-//Youth Utilizing Power and Praise - ECPv6.15.20//NONSGML v1.0//EN
CALSCALE:GREGORIAN
METHOD:PUBLISH
X-ORIGINAL-URL:https://yupporg.com
X-WR-CALDESC:Events for Youth Utilizing Power and Praise
REFRESH-INTERVAL;VALUE=DURATION:PT1H
X-Robots-Tag:noindex
X-PUBLISHED-TTL:PT1H
BEGIN:VTIMEZONE
TZID:America/Denver
BEGIN:DAYLIGHT
TZOFFSETFROM:-0700
TZOFFSETTO:-0600
TZNAME:MDT
DTSTART:20220313T090000
END:DAYLIGHT
BEGIN:STANDARD
TZOFFSETFROM:-0600
TZOFFSETTO:-0700
TZNAME:MST
DTSTART:20221106T080000
END:STANDARD
BEGIN:DAYLIGHT
TZOFFSETFROM:-0700
TZOFFSETTO:-0600
TZNAME:MDT
DTSTART:20230312T090000
END:DAYLIGHT
BEGIN:STANDARD
TZOFFSETFROM:-0600
TZOFFSETTO:-0700
TZNAME:MST
DTSTART:20231105T080000
END:STANDARD
BEGIN:DAYLIGHT
TZOFFSETFROM:-0700
TZOFFSETTO:-0600
TZNAME:MDT
DTSTART:20240310T090000
END:DAYLIGHT
BEGIN:STANDARD
TZOFFSETFROM:-0600
TZOFFSETTO:-0700
TZNAME:MST
DTSTART:20241103T080000
END:STANDARD
END:VTIMEZONE
BEGIN:VEVENT
DTSTART;TZID=America/Denver:20230930T130000
DTEND;TZID=America/Denver:20230930T170000
DTSTAMP:20260425T171048
CREATED:20250721T093937Z
LAST-MODIFIED:20250721T123938Z
UID:22850-1696078800-1696093200@yupporg.com
SUMMARY:YUPP Org VIP Princess Party
DESCRIPTION:Event Overview\nTitle: YUPP Org VIP Princess Party\nTheme: A royal celebration fit for little princesses!\nObjective: Create a magical\, unforgettable experience where children can immerse themselves in a fairytale world of elegance\, fun\, and enchantment. \nKey Details\n\nDate: Saturday\, September 23rd\, 2023\nVIP Experience: Exclusive access to premium activities\, royal treats\, and special surprises.\nTarget Audience: Children (ages 3–10) and their families.\n\nEvent Highlights\nActivities & Entertainment: \n\nPrincess Meet & Greet: Photo ops and interactions with beloved princess characters.\nRoyal Crafts: Tiara decorating\, wand-making\, and other themed DIY projects.\nStorytime Sessions: Enchanting tales read by a “royal storyteller.”\nDance & Sing-Along: A mini-ballroom experience with princess-inspired music.\nVIP Treats: Elegant snacks and refreshments (e.g.\, “unicorn” cupcakes\, “magic” punch).\n\nVIP Perks (If Applicable): \n\nEarly entry or private time with the princesses.\nExclusive party favors (e.g.\, keepsake jewelry\, personalized certificates).\nPriority seating for performances.\n\nHow to Attend\n\nRegistration: Pre-booking required due to limited VIP slots.\nAttire: Encourage royal dress-up (princess gowns\, tiaras\, etc.).\nLocation: Will be showcased after registration\n\nWhy You Can’t Miss This\n\nImmersive Magic: A curated experience that sparks imagination and joy.\nPhoto-Worthy Moments: Professional backdrops and props for memorable snapshots.\nCommunity & Connection: Bond with other families in a whimsical setting.\n\n“Secure your little one’s VIP pass to this royal affair! Limited spots available. Crowns and smiles guaranteed.”
URL:https://yupporg.com/event/yupp-org-vip-princess-party/
ATTACH;FMTTYPE=image/jpeg:https://yupporg.com/wp-content/uploads/2025/07/PrincessParties-scaled.jpg
END:VEVENT
END:VCALENDAR