BEGIN:VCALENDAR
VERSION:2.0
PRODID:-//Youth Utilizing Power and Praise - ECPv6.15.20//NONSGML v1.0//EN
CALSCALE:GREGORIAN
METHOD:PUBLISH
X-WR-CALNAME:Youth Utilizing Power and Praise
X-ORIGINAL-URL:https://yupporg.com
X-WR-CALDESC:Events for Youth Utilizing Power and Praise
REFRESH-INTERVAL;VALUE=DURATION:PT1H
X-Robots-Tag:noindex
X-PUBLISHED-TTL:PT1H
BEGIN:VTIMEZONE
TZID:America/Denver
BEGIN:DAYLIGHT
TZOFFSETFROM:-0700
TZOFFSETTO:-0600
TZNAME:MDT
DTSTART:20220313T090000
END:DAYLIGHT
BEGIN:STANDARD
TZOFFSETFROM:-0600
TZOFFSETTO:-0700
TZNAME:MST
DTSTART:20221106T080000
END:STANDARD
BEGIN:DAYLIGHT
TZOFFSETFROM:-0700
TZOFFSETTO:-0600
TZNAME:MDT
DTSTART:20230312T090000
END:DAYLIGHT
BEGIN:STANDARD
TZOFFSETFROM:-0600
TZOFFSETTO:-0700
TZNAME:MST
DTSTART:20231105T080000
END:STANDARD
BEGIN:DAYLIGHT
TZOFFSETFROM:-0700
TZOFFSETTO:-0600
TZNAME:MDT
DTSTART:20240310T090000
END:DAYLIGHT
BEGIN:STANDARD
TZOFFSETFROM:-0600
TZOFFSETTO:-0700
TZNAME:MST
DTSTART:20241103T080000
END:STANDARD
END:VTIMEZONE
BEGIN:VEVENT
DTSTART;TZID=America/Denver:20231107T180000
DTEND;TZID=America/Denver:20231107T200000
DTSTAMP:20260425T153622
CREATED:20250721T143346Z
LAST-MODIFIED:20250721T143346Z
UID:22869-1699380000-1699387200@yupporg.com
SUMMARY:Fall Festival at YUPP Headquarters
DESCRIPTION:Headline & Hook\nSpooktacular Fun Awaits! 🎃🍂\nJoin us for a not-too-scary Halloween celebration at YUPP Headquarters. A night of family-friendly thrills\, treats\, and community connection! \n2. Key Details\n📅 Date: Tuesday\, October 31st\, 2023 (Perfect post-trick-or-treating event!)\n⏰ Time: 6:00 PM – 8:00 PM (2 hours of festive fun)\n📍 Venue: YUPP Headquarters\n🏠 Address: 1290 Pomeroy Avenue\, Santa Clara\, CA 95051 \n3. Event Highlights\n🎃 Festive Activities: \n\nPumpkin decorating or costume contest (infer from Halloween theme)\nCandy stations and fall-themed treats\nPhoto ops with playful “spooky” backdrops\n\n👻 Community Vibes: \n\nSafe\, welcoming environment for all ages\nLive music or kid-friendly entertainment (if applicable)\n\n✨ Special Twist: \n\n\nPotential tie-in to YUPP’s mission (e.g.\, “Harvesting Hope” theme) \n\n\n4. Why Attend?\n✅ Convenient Timing: Early evening for little ghouls and goblins.\n✅ Local & Low-Key: Skip the crowded malls—celebrate neighborhood-style!\n✅ Memorable Moments: Candy + creativity = instant family memories. \n“Scan the QR code to RSVP (or just show up!) let’s fill Pomeroy Avenue with laughter this Halloween! � #YUPPFallFest #SantaClaraEvents”
URL:https://yupporg.com/event/fall-festival-at-yupp-headquarters/
ATTACH;FMTTYPE=image/jpeg:https://yupporg.com/wp-content/uploads/2025/07/FallFestival_postcard-updated.jpg
END:VEVENT
END:VCALENDAR