BEGIN:VCALENDAR
VERSION:2.0
PRODID:-//Youth Utilizing Power and Praise - ECPv6.15.20//NONSGML v1.0//EN
CALSCALE:GREGORIAN
METHOD:PUBLISH
X-WR-CALNAME:Youth Utilizing Power and Praise
X-ORIGINAL-URL:https://yupporg.com
X-WR-CALDESC:Events for Youth Utilizing Power and Praise
REFRESH-INTERVAL;VALUE=DURATION:PT1H
X-Robots-Tag:noindex
X-PUBLISHED-TTL:PT1H
BEGIN:VTIMEZONE
TZID:America/Denver
BEGIN:DAYLIGHT
TZOFFSETFROM:-0700
TZOFFSETTO:-0600
TZNAME:MDT
DTSTART:20230312T090000
END:DAYLIGHT
BEGIN:STANDARD
TZOFFSETFROM:-0600
TZOFFSETTO:-0700
TZNAME:MST
DTSTART:20231105T080000
END:STANDARD
BEGIN:DAYLIGHT
TZOFFSETFROM:-0700
TZOFFSETTO:-0600
TZNAME:MDT
DTSTART:20240310T090000
END:DAYLIGHT
BEGIN:STANDARD
TZOFFSETFROM:-0600
TZOFFSETTO:-0700
TZNAME:MST
DTSTART:20241103T080000
END:STANDARD
BEGIN:DAYLIGHT
TZOFFSETFROM:-0700
TZOFFSETTO:-0600
TZNAME:MDT
DTSTART:20250309T090000
END:DAYLIGHT
BEGIN:STANDARD
TZOFFSETFROM:-0600
TZOFFSETTO:-0700
TZNAME:MST
DTSTART:20251102T080000
END:STANDARD
END:VTIMEZONE
BEGIN:VEVENT
DTSTART;TZID=America/Denver:20240504T130000
DTEND;TZID=America/Denver:20240504T150000
DTSTAMP:20260425T050015
CREATED:20250721T140114Z
LAST-MODIFIED:20250721T202742Z
UID:22863-1714827600-1714834800@yupporg.com
SUMMARY:Spring Recital 2024
DESCRIPTION:Headline & Hook\nWitness Brilliance in Bloom! 🌸\nJoin Light It Up School of the Arts for an afternoon of extraordinary talent at our Spring Recital 2024. Where students take the spotlight to showcase their artistic growth. \nKey Details\n📅 Date: Saturday\, April 27\, 2024\n⏰ Time: 1:00 PM – 3:00 PM\n📍 Venue: Mission City Church\n🏠 Address: 1290 Pomeroy Avenue\, Santa Clara\, CA 95051 \nEvent Highlights\n✨ Student Performances: \n\nA dazzling lineup of dance\, music\, theater\, or visual arts (specify disciplines if known).\nSolo and group acts curated from months of training.\n\n🎭 Special Features: \n\nOpening/closing remarks by instructors highlighting student progress.\nInteractive elements like audience voting or live artist Q&A (if applicable).\n\n🎟️ Accessibility: \n\nFamily-friendly pricing (mention if free or ticket cost).\nOpen to the public. All ages welcome!\n\nWhy Attend?\n✅ Support Local Talent: Cheer on the next generation of artists.\n✅ Short & Sweet: Just 2 hours of high-energy performances.\n✅ Perfect for Families: An inspiring way to spend a Saturday afternoon. \n“Reserve your seats now! Limited capacity don’t miss this celebration of creativity. 🎟️
URL:https://yupporg.com/event/spring-recital-2024-light-it-up-school-of-the-arts/
ATTACH;FMTTYPE=image/jpeg:https://yupporg.com/wp-content/uploads/2025/07/SpringRecital2024-scaled.jpg
END:VEVENT
END:VCALENDAR