BEGIN:VCALENDAR
VERSION:2.0
PRODID:-//Youth Utilizing Power and Praise - ECPv6.15.20//NONSGML v1.0//EN
CALSCALE:GREGORIAN
METHOD:PUBLISH
X-ORIGINAL-URL:https://yupporg.com
X-WR-CALDESC:Events for Youth Utilizing Power and Praise
REFRESH-INTERVAL;VALUE=DURATION:PT1H
X-Robots-Tag:noindex
X-PUBLISHED-TTL:PT1H
BEGIN:VTIMEZONE
TZID:America/Denver
BEGIN:DAYLIGHT
TZOFFSETFROM:-0700
TZOFFSETTO:-0600
TZNAME:MDT
DTSTART:20230312T090000
END:DAYLIGHT
BEGIN:STANDARD
TZOFFSETFROM:-0600
TZOFFSETTO:-0700
TZNAME:MST
DTSTART:20231105T080000
END:STANDARD
BEGIN:DAYLIGHT
TZOFFSETFROM:-0700
TZOFFSETTO:-0600
TZNAME:MDT
DTSTART:20240310T090000
END:DAYLIGHT
BEGIN:STANDARD
TZOFFSETFROM:-0600
TZOFFSETTO:-0700
TZNAME:MST
DTSTART:20241103T080000
END:STANDARD
BEGIN:DAYLIGHT
TZOFFSETFROM:-0700
TZOFFSETTO:-0600
TZNAME:MDT
DTSTART:20250309T090000
END:DAYLIGHT
BEGIN:STANDARD
TZOFFSETFROM:-0600
TZOFFSETTO:-0700
TZNAME:MST
DTSTART:20251102T080000
END:STANDARD
END:VTIMEZONE
BEGIN:VEVENT
DTSTART;TZID=America/Denver:20240511T120000
DTEND;TZID=America/Denver:20240511T150000
DTSTAMP:20260425T050207
CREATED:20250721T200959Z
LAST-MODIFIED:20250721T200959Z
UID:22887-1715428800-1715439600@yupporg.com
SUMMARY:VIP Wish! In The Mountains
DESCRIPTION:Headline & Hook\nRecharge Your Soul at the Mountaintop! 🌄✨\nEscape the ordinary and join us for VIP Wish! In The Mountains. A transformative mid-year retreat blending spiritual renewal\, breathtaking views\, and intentional community. \nKey Details\n📅 Date: Saturday\, May 4\, 2024\n⏰ Time: 12:00 PM – 3:00 PM (Sunlit hours for reflection)\n📍 Venue: Fasting Prayer Mountain of the World\n🏠 Address: 997 Lockhart Gulch Rd\, Scotts Valley\, CA 95066 \nRetreat Experience\n🌿 Spiritual Refresh: \nGuided fasting and prayer sessions (bring water/journal). \nThematic focus: “Every moment is a fresh beginning” (T.S. Eliot). \n🎤 VIP Elements: \nIntimate group setting for deeper connection. \nExclusive teachings or guest speakers. \n🏔️ Nature’s Sanctuary: \nScenic mountain backdrop for meditation or quiet reflection. \nLight refreshments. \nWho Should Attend?\nSeekers of spiritual clarity and renewal. \nLeaders\, creatives\, or anyone craving a mid-year reset. \nVIP designation may imply limited seats—act fast! \nWhy This Retreat?\n✅ Timely Reset: Align with the year’s second wind.\n✅ Exclusive Vibes: Curated for meaningful engagement.\n✅ No-Hustle Location: Just 30 mins from Santa Cruz. \n“Claim your spot on the mountain! Limited VIP access\, register now. 🌱 #VIPWishRetreat #MountainRenewal”
URL:https://yupporg.com/event/vip-wish-in-the-mountains/
ATTACH;FMTTYPE=image/jpeg:https://yupporg.com/wp-content/uploads/2025/07/WorshipInTheMountains2024-1.jpg
END:VEVENT
END:VCALENDAR