BEGIN:VCALENDAR
VERSION:2.0
PRODID:-//Youth Utilizing Power and Praise - ECPv6.15.20//NONSGML v1.0//EN
CALSCALE:GREGORIAN
METHOD:PUBLISH
X-WR-CALNAME:Youth Utilizing Power and Praise
X-ORIGINAL-URL:https://yupporg.com
X-WR-CALDESC:Events for Youth Utilizing Power and Praise
REFRESH-INTERVAL;VALUE=DURATION:PT1H
X-Robots-Tag:noindex
X-PUBLISHED-TTL:PT1H
BEGIN:VTIMEZONE
TZID:America/Denver
BEGIN:DAYLIGHT
TZOFFSETFROM:-0700
TZOFFSETTO:-0600
TZNAME:MDT
DTSTART:20240310T090000
END:DAYLIGHT
BEGIN:STANDARD
TZOFFSETFROM:-0600
TZOFFSETTO:-0700
TZNAME:MST
DTSTART:20241103T080000
END:STANDARD
BEGIN:DAYLIGHT
TZOFFSETFROM:-0700
TZOFFSETTO:-0600
TZNAME:MDT
DTSTART:20250309T090000
END:DAYLIGHT
BEGIN:STANDARD
TZOFFSETFROM:-0600
TZOFFSETTO:-0700
TZNAME:MST
DTSTART:20251102T080000
END:STANDARD
BEGIN:DAYLIGHT
TZOFFSETFROM:-0700
TZOFFSETTO:-0600
TZNAME:MDT
DTSTART:20260308T090000
END:DAYLIGHT
BEGIN:STANDARD
TZOFFSETFROM:-0600
TZOFFSETTO:-0700
TZNAME:MST
DTSTART:20261101T080000
END:STANDARD
END:VTIMEZONE
BEGIN:VEVENT
DTSTART;TZID=America/Denver:20250801T130000
DTEND;TZID=America/Denver:20250801T180000
DTSTAMP:20260424T083241
CREATED:20250714T071041Z
LAST-MODIFIED:20250721T092828Z
UID:22659-1754053200-1754071200@yupporg.com
SUMMARY:Y.E.S. - Youth Empowerment Summit
DESCRIPTION:📌 Event Overview\nY.E.S. (Youth Empowerment Summit) is a dynamic\, high-energy event presented by New Birth Community Development\, designed to inspire\, equip\, and uplift youth aged 13–18 through a powerful day of connection\, creativity\, and community. Held on July 25\, 2025\, from 1 PM to 6 PM\, this summit is completely free to attend\, thanks to the support of partners and sponsors dedicated to youth development. \n🧠 Purpose & Vision\nThe Youth Empowerment Summit is not just an event. It’s a movement. It brings together teens from diverse backgrounds to: \n\nExplore their potential\nExpress their creativity\nEngage in conversations that matter\nDiscover new opportunities in arts\, leadership\, and social impact\n\nThe core mission? To foster confidence\, community\, and cross-cultural collaboration among youth through arts\, dialogue\, and active participation. \n💥 Who It’s For\n\nYouth aged 13–18\nStudents interested in arts\, leadership\, public speaking\, music\, or sports\nYoung people looking to connect with mentors\, peers\, and changemakers\nTeens ready to be seen\, heard\, and celebrated\n\n🎤 What to Expect\nA day packed with: \n\nCreative Workshops (music\, dance\, spoken word\, art)\nInspiring Speakers and teen-led panels\nInteractive Sessions on confidence\, leadership\, and self-expression\nNetworking Opportunities with local mentors and organizations\nA community celebration full of energy\, talent\, and empowerment\n\n🆓 Registration\nRegistration is free and open to all youth within the age group.A scannable QR Code is included for easy sign-up\, ensuring accessibility for everyone. \n🤝 Event Presented By:\nNew Birth Community Development\, a grassroots organization with a heart for uplifting youth through education\, community service\, and cultural expression. \n💡 Supported By:\n\nChase (Sponsor)\nYupp Org (Youth Utilizing Power and Praise)\nFamily Giving Tree\nAnd other community partners passionate about investing in the next generation\n\nRegister now
URL:https://yupporg.com/event/youth-empowerment-summit/
ATTACH;FMTTYPE=image/jpeg:https://yupporg.com/wp-content/uploads/2025/07/IMG_4005.jpg
END:VEVENT
END:VCALENDAR