BEGIN:VCALENDAR
VERSION:2.0
PRODID:-//Youth Utilizing Power and Praise - ECPv6.15.20//NONSGML v1.0//EN
CALSCALE:GREGORIAN
METHOD:PUBLISH
X-ORIGINAL-URL:https://yupporg.com
X-WR-CALDESC:Events for Youth Utilizing Power and Praise
REFRESH-INTERVAL;VALUE=DURATION:PT1H
X-Robots-Tag:noindex
X-PUBLISHED-TTL:PT1H
BEGIN:VTIMEZONE
TZID:America/Denver
BEGIN:DAYLIGHT
TZOFFSETFROM:-0700
TZOFFSETTO:-0600
TZNAME:MDT
DTSTART:20240310T090000
END:DAYLIGHT
BEGIN:STANDARD
TZOFFSETFROM:-0600
TZOFFSETTO:-0700
TZNAME:MST
DTSTART:20241103T080000
END:STANDARD
BEGIN:DAYLIGHT
TZOFFSETFROM:-0700
TZOFFSETTO:-0600
TZNAME:MDT
DTSTART:20250309T090000
END:DAYLIGHT
BEGIN:STANDARD
TZOFFSETFROM:-0600
TZOFFSETTO:-0700
TZNAME:MST
DTSTART:20251102T080000
END:STANDARD
BEGIN:DAYLIGHT
TZOFFSETFROM:-0700
TZOFFSETTO:-0600
TZNAME:MDT
DTSTART:20260308T090000
END:DAYLIGHT
BEGIN:STANDARD
TZOFFSETFROM:-0600
TZOFFSETTO:-0700
TZNAME:MST
DTSTART:20261101T080000
END:STANDARD
END:VTIMEZONE
BEGIN:VEVENT
DTSTART;TZID=America/Denver:20250823T100000
DTEND;TZID=America/Denver:20250823T140000
DTSTAMP:20260424T083438
CREATED:20250815T165249Z
LAST-MODIFIED:20250815T220523Z
UID:23253-1755943200-1755957600@yupporg.com
SUMMARY:YUPP Org Immersive Class Series
DESCRIPTION:Join us for an inspiring and interactive day of creativity\, culture\, and connection at the YUPP Org Immersive Class Series. This unique program offers participants hands-on learning experiences in Vocal Performance\, Dance\, and Drumming\, all led by passionate and skilled instructors. Whether you’re a beginner or have experience\, you’ll leave with new techniques\, deeper cultural understanding\, and unforgettable memories. \n\nEvent Details\n\n\nDate: Saturday\, 16th August \n\n\nTime: 10:00 AM – 2:00 PM \n\n\nLocation: YUPP Headquarters\, 1290 Pomeroy Avenue\, Santa Clara\, CA \n\n\nCost: Free — Open to All \n\n\n\nWhat to Expect\n\n\nVocal Performance:Learn vocal techniques\, breathing exercises\, and performance skills that bring out the power of your voice. \n\n\nDance:Explore dynamic movements\, rhythm\, and cultural dance styles that connect body and spirit. \n\n\nDrumming:Engage with traditional and contemporary rhythms\, enhancing your sense of timing\, coordination\, and musicality. \n\n\n\nWhy Attend\n\n\nBuild confidence in your creative expression. \n\n\nLearn directly from talented instructors. \n\n\nExperience the joy of music\, movement\, and culture in a supportive environment. \n\n\nConnect with a diverse and vibrant community. \n\n\n\nWho Can Join\nEveryone is welcome! This event is perfect for youth\, adults\, families\, and anyone interested in exploring music and the arts. \n\nRegistration\nSecure your spot today!
URL:https://yupporg.com/event/yupp-org-immersive-class-series/
ATTACH;FMTTYPE=image/png:https://yupporg.com/wp-content/uploads/2025/08/YUPP-Org-Immersive-Class-Series-1.png
END:VEVENT
END:VCALENDAR