BEGIN:VCALENDAR
VERSION:2.0
PRODID:-//Youth Utilizing Power and Praise - ECPv6.15.20//NONSGML v1.0//EN
CALSCALE:GREGORIAN
METHOD:PUBLISH
X-WR-CALNAME:Youth Utilizing Power and Praise
X-ORIGINAL-URL:https://yupporg.com
X-WR-CALDESC:Events for Youth Utilizing Power and Praise
REFRESH-INTERVAL;VALUE=DURATION:PT1H
X-Robots-Tag:noindex
X-PUBLISHED-TTL:PT1H
BEGIN:VTIMEZONE
TZID:America/Denver
BEGIN:DAYLIGHT
TZOFFSETFROM:-0700
TZOFFSETTO:-0600
TZNAME:MDT
DTSTART:20240310T090000
END:DAYLIGHT
BEGIN:STANDARD
TZOFFSETFROM:-0600
TZOFFSETTO:-0700
TZNAME:MST
DTSTART:20241103T080000
END:STANDARD
BEGIN:DAYLIGHT
TZOFFSETFROM:-0700
TZOFFSETTO:-0600
TZNAME:MDT
DTSTART:20250309T090000
END:DAYLIGHT
BEGIN:STANDARD
TZOFFSETFROM:-0600
TZOFFSETTO:-0700
TZNAME:MST
DTSTART:20251102T080000
END:STANDARD
BEGIN:DAYLIGHT
TZOFFSETFROM:-0700
TZOFFSETTO:-0600
TZNAME:MDT
DTSTART:20260308T090000
END:DAYLIGHT
BEGIN:STANDARD
TZOFFSETFROM:-0600
TZOFFSETTO:-0700
TZNAME:MST
DTSTART:20261101T080000
END:STANDARD
END:VTIMEZONE
BEGIN:VEVENT
DTSTART;TZID=America/Denver:20251213T160000
DTEND;TZID=America/Denver:20251213T200000
DTSTAMP:20260423T151422
CREATED:20251024T101744Z
LAST-MODIFIED:20251105T192947Z
UID:23761-1765641600-1765656000@yupporg.com
SUMMARY:Performances at Christmas in the Park
DESCRIPTION:About the Event\nGet ready to experience the magic of the season as YUPP ORG brings the spirit of youth\, creativity\, and community to Christmas in the Park! Join us for two unforgettable performance sessions filled with music\, dance\, and holiday cheer all powered by talented young people making a difference. \n📅 Date: December 13th\, 2025⏰ Time: 4:00–5:00 PM & 7:00–8:00 PM📍 Location: Downtown San Jose \n\nWhat to Expect\n🎤 Live Performances: Enjoy heartwarming acts from local youth artists and performers.🎭 Inspiring Talent: Watch creativity come alive through music\, spoken word\, and movement.🎅 Holiday Spirit: Immerse yourself in the festive energy that brings families\, friends\, and communities together.💫 Community Connection: Celebrate the power of youth expression and unity this holiday season. \n\nJoin Us!\nDon’t miss this joyful celebration at Downtown San Jose. Bring your family\, invite your friends\, and support young performers spreading light and hope through art. \n👉 Admission is free and open to everyone!
URL:https://yupporg.com/event/performances-at-christmas-in-the-park/
CATEGORIES:Performance
ATTACH;FMTTYPE=image/jpeg:https://yupporg.com/wp-content/uploads/2025/06/Copy-of-IMG_5407-scaled.jpg
END:VEVENT
END:VCALENDAR