BEGIN:VCALENDAR
VERSION:2.0
PRODID:-//Youth Utilizing Power and Praise - ECPv6.15.20//NONSGML v1.0//EN
CALSCALE:GREGORIAN
METHOD:PUBLISH
X-WR-CALNAME:Youth Utilizing Power and Praise
X-ORIGINAL-URL:https://yupporg.com
X-WR-CALDESC:Events for Youth Utilizing Power and Praise
REFRESH-INTERVAL;VALUE=DURATION:PT1H
X-Robots-Tag:noindex
X-PUBLISHED-TTL:PT1H
BEGIN:VTIMEZONE
TZID:America/Denver
BEGIN:DAYLIGHT
TZOFFSETFROM:-0700
TZOFFSETTO:-0600
TZNAME:MDT
DTSTART:20250309T090000
END:DAYLIGHT
BEGIN:STANDARD
TZOFFSETFROM:-0600
TZOFFSETTO:-0700
TZNAME:MST
DTSTART:20251102T080000
END:STANDARD
BEGIN:DAYLIGHT
TZOFFSETFROM:-0700
TZOFFSETTO:-0600
TZNAME:MDT
DTSTART:20260308T090000
END:DAYLIGHT
BEGIN:STANDARD
TZOFFSETFROM:-0600
TZOFFSETTO:-0700
TZNAME:MST
DTSTART:20261101T080000
END:STANDARD
BEGIN:DAYLIGHT
TZOFFSETFROM:-0700
TZOFFSETTO:-0600
TZNAME:MDT
DTSTART:20270314T090000
END:DAYLIGHT
BEGIN:STANDARD
TZOFFSETFROM:-0600
TZOFFSETTO:-0700
TZNAME:MST
DTSTART:20271107T080000
END:STANDARD
END:VTIMEZONE
BEGIN:VEVENT
DTSTART;TZID=America/Denver:20260318T183000
DTEND;TZID=America/Denver:20260318T210000
DTSTAMP:20260425T104854
CREATED:20260318T083835Z
LAST-MODIFIED:20260318T083835Z
UID:23933-1773858600-1773867600@yupporg.com
SUMMARY:LIU-San Jose Winter Showcase
DESCRIPTION:Join YUPP Org for an evening of talent and community at the LIU-San Jose Winter Showcase! This live event brings together local performers for a high-energy night of music and entertainment. \nWhether you are there to support the performers or simply enjoy the vibrant local scene\, it promises to be a memorable winter celebration. \nEvent Details\n\n\nWhen: Wednesday\, March 18 \n\n\nTime: 6:30 PM \n\n\nWhere: Venture Christian Academy (Worship Center) \n\n\nAddress: 16845 Hicks Road\, Los Gatos\, CA
URL:https://yupporg.com/event/liu-san-jose-winter-showcase/
CATEGORIES:Performance
ATTACH;FMTTYPE=image/jpeg:https://yupporg.com/wp-content/uploads/2026/03/LIU-SanJoseWinterShowcaseFlyer-2-scaled.jpg
END:VEVENT
BEGIN:VEVENT
DTSTART;TZID=America/Denver:20260425T110000
DTEND;TZID=America/Denver:20260425T140000
DTSTAMP:20260425T104854
CREATED:20260408T061420Z
LAST-MODIFIED:20260408T061530Z
UID:23941-1777114800-1777125600@yupporg.com
SUMMARY:YUPP Org Financial Literacy Class
DESCRIPTION:Financial Literacy Class\n\n\n\n\n\n\nEmpowering the next generation with the tools for financial success. \nJoin YUPP\, in partnership with Oak Valley Community Bank\, for an interactive Financial Literacy Class designed specifically for young people. Whether you’re looking to open your first bank account or want to understand how to make your money grow\, this session covers the essentials of building a solid financial foundation. \n\nEvent Highlights\n\n\nChecking & Savings: Learn how to manage your accounts effectively. \n\n\nBudgeting: Master the art of tracking your spending and saving for what matters. \n\n\nCredit Cards: Understand how credit works and how to build a healthy score. \n\n\nInvesting: Get an introduction to growing your wealth over time. \n\n\nGoal Setting: Create a roadmap to achieve your personal financial milestones. \n\n\n\nEvent Details\n\n\nDate: Saturday\, April 25\, 2026 \n\n\nTime: 11:00 AM \n\n\nTarget Audience: Ages 12–25 (Adults are welcome to stay!) \n\n\nLocation: Calvary Community Church 815 W. Lathrop Road Manteca\, CA 95336 Room 402 \n\n\n\nHow to Join\nReady to take control of your financial future? Scan the QR code on the flyer or use the link below to register today! \nQuestions? Reach out to us at info@yupporg.com.
URL:https://yupporg.com/event/yupp-org-financial-literacy-class/
CATEGORIES:Children,Education,Finance,Helping
ATTACH;FMTTYPE=image/jpeg:https://yupporg.com/wp-content/uploads/2026/04/unnamed-27.jpg
END:VEVENT
BEGIN:VEVENT
DTSTART;TZID=America/Denver:20260519T000000
DTEND;TZID=America/Denver:20260519T235900
DTSTAMP:20260425T104854
CREATED:20260424T074532Z
LAST-MODIFIED:20260424T074720Z
UID:23966-1779148800-1779235140@yupporg.com
SUMMARY:209 Gives: 24 Hours of Giving
DESCRIPTION:Event Overview\n209 Gives is a powerful 24-hour online fundraising marathon dedicated to supporting nonprofits in the San Joaquin County area. This year\, Youth Utilizing Power and Praise (YUPP) is calling on our community to help us expand our mission of empowering youth through the arts\, sports\, and leadership. Your donations on this day are often amplified by matches and challenges\, making every dollar go further for our students. \n\nQuick Details\n\n\nEvent Name: 209 Gives: 24 Hours of Giving \n\n\nDate: Tuesday\, May 19\, 2026 \n\n\nTime: 12:00 AM – 11:59 PM (All Day) \n\n\nLocation: Online at yupporg.com/209gives (or the official 209 Gives platform) \n\n\n\nWhy Your Support Matters\nBy giving during 209 Gives\, you directly fund the programs that make YUPP a “Safe Haven” for youth ages 6–25. Your contributions help cover: \n\n\nArt Supplies & Music Materials: Ensuring every student has the tools they need to create. \n\n\nProfessional Instruction: Providing high-quality coaching in dance\, drama\, and sports. \n\n\nCultural Exchange & Tours: Funding travel opportunities for our youth to perform on national stages. \n\n\nScholarships: Keeping our programs accessible to every child\, regardless of financial background. \n\n\n\nHow to Participate\n\n\nSave the Date: Mark May 19th on your calendar. \n\n\nSpread the Word: Share our 209 Gives flyer and QR code with friends\, family\, and colleagues. \n\n\nGive Early or Day-Of: Visit our profile on the 209 Gives website to make a secure donation. \n\n\nFollow the Leaderboard: Watch the live updates on May 19th to see the collective impact of our community’s generosity! \n\n\n\nAbout YUPP\nYouth Utilizing Power and Praise (YUPP) is a faith-based organization dedicated to nurturing the whole child. Through our five pillars; Performing Arts\, Fine Arts\, Leadership\, Sports & Wellness\, and Cultural Exchange—we provide the mentorship and resources young people need to walk boldly in their purpose.
URL:https://yupporg.com/event/209-gives-24-hours-of-giving/
CATEGORIES:Donation,Finance,Helping,Organization
ATTACH;FMTTYPE=image/jpeg:https://yupporg.com/wp-content/uploads/2026/04/SocialMedia-16.jpg
END:VEVENT
BEGIN:VEVENT
DTSTART;TZID=America/Denver:20260521T183000
DTEND;TZID=America/Denver:20260521T200000
DTSTAMP:20260425T104854
CREATED:20260424T072710Z
LAST-MODIFIED:20260424T072710Z
UID:23955-1779388200-1779393600@yupporg.com
SUMMARY:Light It Up! Spring Recital
DESCRIPTION:Event Overview\nThe Light It Up School of the Arts is hosting its annual Spring Recital\, a vibrant showcase of talent from students in the performing and fine arts programs. This event brings together the community to celebrate the hard work and creative growth of youth ages 6–25. \n\nQuick Details\n\n\nEvent Name: Light It Up! Spring Recital \n\n\nDate: Thursday\, May 21\, 2026 \n\n\nTime: 6:30 PM \n\n\nLocation: > YUPP Headquarters \n\n\n\n\n\nWhat to Expect\n\n\nPerformances: Live music\, dance\, and drama presentations from YUPP students. \n\n\nAtmosphere: A family-friendly\, high-energy environment focused on empowerment and creative expression. \n\n\nCommunity: Meet the instructors and mentors behind the “Light It Up” School of the Arts and learn more about YUPP’s mission to nurture purpose through the arts. \n\n\n\nAbout the Organization\nYouth Utilizing Power and Praise (YUPP) is a faith-based\, community-rooted organization dedicated to empowering youth through five key pillars: Performing Arts\, Fine Arts\, Leadership\, Sports & Wellness\, and Cultural Exchange. The Light It Up School of the Arts is one of their core programs designed to provide a safe haven for young people to discover their gifts and build confidence.
URL:https://yupporg.com/event/light-it-up-spring-recital/
CATEGORIES:Children,Performance
ATTACH;FMTTYPE=image/jpeg:https://yupporg.com/wp-content/uploads/2026/04/Final-5.jpg
END:VEVENT
BEGIN:VEVENT
DTSTART;TZID=America/Denver:20260726T170000
DTEND;TZID=America/Denver:20260726T190000
DTSTAMP:20260425T104854
CREATED:20260424T073857Z
LAST-MODIFIED:20260424T073857Z
UID:23962-1785085200-1785092400@yupporg.com
SUMMARY:Gathering of Distinguished Gentlemen
DESCRIPTION:Event Overview\nThe Gathering of Distinguished Gentlemen is a premier YUPP event focused on mentorship\, character building\, and leadership development for young men. This gathering serves as a “Save the Date” for a sophisticated evening where young men are encouraged to refine their vision for the future\, build meaningful connections\, and embrace the qualities of a modern leader. \n\nQuick Details\n\n\nEvent Name: Gathering of Distinguished Gentlemen \n\n\nDate: Sunday\, July 26\, 2026 \n\n\nTime: 5:00 PM – 8:00 PM (Typical evening event window) \n\n\nLocation: > YUPP Headquarters \n\n\n\n\n\nWhat to Expect\n\n\nMentorship Circles: Engaging discussions with local leaders and professionals on career\, etiquette\, and personal growth. \n\n\nRefined Atmosphere: A formal setting designed to elevate the standard of excellence for young men in our community. \n\n\nNetworking & Fellowship: An opportunity to connect with peers who are dedicated to making a positive impact. \n\n\nLeadership Workshops: Keynote speakers and interactive sessions focused on the YUPP pillar of Leadership & Life Skills. \n\n\n\nAttire & Registration\n\n\nDress Code: Formal or Business Attire (Suits\, blazers\, and ties encouraged). Let’s dress for the future we envision! \n\n\nAges: Targeted toward young men and teens (recommended ages 12–25). \n\n\nRegistration: More info is coming soon! Keep an eye on yupporg.com to secure your seat. \n\n\n\nThe YUPP Mission\nYouth Utilizing Power and Praise (YUPP) is committed to providing a safe haven and a platform for excellence. The Distinguished Gentlemen series is a core part of our mission to nurture purpose and provide young men with the tools they need to lead with integrity and grace.
URL:https://yupporg.com/event/gathering-of-distinguished-gentlemen/
CATEGORIES:Helping,Organization
ATTACH;FMTTYPE=image/jpeg:https://yupporg.com/wp-content/uploads/2026/04/Gentleman.jpg
END:VEVENT
BEGIN:VEVENT
DTSTART;TZID=America/Denver:20260905T080000
DTEND;TZID=America/Denver:20260905T230000
DTSTAMP:20260425T104854
CREATED:20260424T073359Z
LAST-MODIFIED:20260424T073359Z
UID:23958-1788595200-1788649200@yupporg.com
SUMMARY:YUPP Princess Parties
DESCRIPTION:Event Overview\nStep into a world of magic and elegance at our Princess Parties: Save the Date! Hosted by Youth Utilizing Power and Praise (YUPP)\, this enchanting event is designed to empower young girls and help them see themselves as the royalty they are. It’s an afternoon of fairytale fun\, royal mentorship\, and creative expression. \nQuick Details\n\n\nEvent Name: YUPP Princess Parties \n\n\nDate: Saturday\, September 5\, 2026 \n\n\nTime: 1:00 PM – 5:00 PM (Typical YUPP major event timing) \n\n\nLocation: > YUPP Headquarters \n\n\n  \nWhat to Expect\n\n\nRoyal Meet & Greet: Photo opportunities and interactions with “royal” mentors and princess characters. \n\n\nEnchanted Activities: Themed crafts (like tiara decorating and wand-making)\, storytelling\, and interactive games. \n\n\nMini-Ballroom Experience: Music\, singing\, and light dance performances led by the Light It Up School of the Arts instructors. \n\n\nPrincess Empowerment: Beyond the gowns and tiaras\, this event focuses on building self-esteem\, grace\, and leadership in a supportive\, faith-based environment. \n\n\n  \nAttire & Registration\n\n\nDress Code: We encourage all our little princesses to come dressed in their favorite royal gowns\, tutus\, or tiaras! \n\n\nAges: Recommended for children and youth ages 3–12 (and their families). \n\n\nHow to Register: Secure your spot via our official registration link below \n\n\n  \nAbout the Vision\nYouth Utilizing Power and Praise (YUPP) is a community-rooted organization in Santa Clara dedicated to nurturing the whole child through the arts. Events like the Princess Parties are crafted to ensure every child knows they are “seen\, known\, and loved\,” providing a safe haven where imagination meets purpose.
URL:https://yupporg.com/event/yupp-princess-parties/
CATEGORIES:Children,Organization,Performance
ATTACH;FMTTYPE=image/jpeg:https://yupporg.com/wp-content/uploads/2026/04/Princess.jpg
END:VEVENT
END:VCALENDAR