BEGIN:VCALENDAR
VERSION:2.0
PRODID:-//Youth Utilizing Power and Praise - ECPv6.15.20//NONSGML v1.0//EN
CALSCALE:GREGORIAN
METHOD:PUBLISH
X-WR-CALNAME:Youth Utilizing Power and Praise
X-ORIGINAL-URL:https://yupporg.com
X-WR-CALDESC:Events for Youth Utilizing Power and Praise
REFRESH-INTERVAL;VALUE=DURATION:PT1H
X-Robots-Tag:noindex
X-PUBLISHED-TTL:PT1H
BEGIN:VTIMEZONE
TZID:America/Denver
BEGIN:DAYLIGHT
TZOFFSETFROM:-0700
TZOFFSETTO:-0600
TZNAME:MDT
DTSTART:20170312T090000
END:DAYLIGHT
BEGIN:STANDARD
TZOFFSETFROM:-0600
TZOFFSETTO:-0700
TZNAME:MST
DTSTART:20171105T080000
END:STANDARD
BEGIN:DAYLIGHT
TZOFFSETFROM:-0700
TZOFFSETTO:-0600
TZNAME:MDT
DTSTART:20180311T090000
END:DAYLIGHT
BEGIN:STANDARD
TZOFFSETFROM:-0600
TZOFFSETTO:-0700
TZNAME:MST
DTSTART:20181104T080000
END:STANDARD
BEGIN:DAYLIGHT
TZOFFSETFROM:-0700
TZOFFSETTO:-0600
TZNAME:MDT
DTSTART:20190310T090000
END:DAYLIGHT
BEGIN:STANDARD
TZOFFSETFROM:-0600
TZOFFSETTO:-0700
TZNAME:MST
DTSTART:20191103T080000
END:STANDARD
BEGIN:DAYLIGHT
TZOFFSETFROM:-0700
TZOFFSETTO:-0600
TZNAME:MDT
DTSTART:20200308T090000
END:DAYLIGHT
BEGIN:STANDARD
TZOFFSETFROM:-0600
TZOFFSETTO:-0700
TZNAME:MST
DTSTART:20201101T080000
END:STANDARD
BEGIN:DAYLIGHT
TZOFFSETFROM:-0700
TZOFFSETTO:-0600
TZNAME:MDT
DTSTART:20210314T090000
END:DAYLIGHT
BEGIN:STANDARD
TZOFFSETFROM:-0600
TZOFFSETTO:-0700
TZNAME:MST
DTSTART:20211107T080000
END:STANDARD
BEGIN:DAYLIGHT
TZOFFSETFROM:-0700
TZOFFSETTO:-0600
TZNAME:MDT
DTSTART:20220313T090000
END:DAYLIGHT
BEGIN:STANDARD
TZOFFSETFROM:-0600
TZOFFSETTO:-0700
TZNAME:MST
DTSTART:20221106T080000
END:STANDARD
END:VTIMEZONE
BEGIN:VEVENT
DTSTART;TZID=America/Denver:20211024T110000
DTEND;TZID=America/Denver:20211024T150000
DTSTAMP:20260423T140125
CREATED:20250721T125648Z
LAST-MODIFIED:20250721T125937Z
UID:22852-1635073200-1635087600@yupporg.com
SUMMARY:Gathering of Distinguished Gentlemen 2021
DESCRIPTION:Event Overview\nTitle: Gathering of Distinguished Gentlemen\nHost: Elevate Youth California\, Journeymen Initiative\nTheme: Empowerment\, Brotherhood\, and Leadership\nObjective: A transformative experience designed to inspire and equip young men with the tools\, mentorship\, and community needed to thrive as leaders in their personal and professional lives. \nKey Details\n\nDate: Saturday\, October !7\, 2021\nTime: 11:00 AM – 3:00 PM\nLocation: The Weave Center (onsite of Redeemer Church)\nAddress: 820 H Street\, Modesto\, CA 95354\nFunding: Supported by Elevate Youth California and funded through Proposition 64.\n\n3. Event Highlights\nProgram Features: \n\nKeynote Talks: Insights from accomplished leaders on integrity\, resilience\, and purpose.\nInteractive Workshops: Skill-building sessions (e.g.\, financial literacy\, career readiness\, emotional intelligence).\nMentorship Circles: Small-group discussions with seasoned professionals and community figures.\nNetworking Opportunities: Foster connections with peers and role models.\nResource Fair: Access to local programs\, scholarships\, and career pathways.\n\nUnique Elements: \n\nBrotherhood Building: Activities designed to cultivate trust and camaraderie.\nElevate Youth Mission: Aligns with statewide efforts to empower underserved youth.\n\n4. Who Should Attend\n\nYoung men (ages 14–25) seeking growth and mentorship.\nCommunity leaders\, educators\, and advocates invested in the youth development.\n\n5. Why Attend?\n\nTransformational Impact: Gain actionable strategies for success.\nSafe Space: Engage in open dialogue about challenges and aspirations.\nLegacy of Support: Part of a larger movement funded by Proposition 64 to uplift communities.\n\n  \n“Step into your potential. Join us for a day of learning\, connection\, and elevation. RSVP now. Seats are limited!”
URL:https://yupporg.com/event/gathering-of-distinguished-gentlemen-2021/
ATTACH;FMTTYPE=image/jpeg:https://yupporg.com/wp-content/uploads/2025/07/Gathering-of-Distinguished-Gentlemen2023-updated-1-scaled.jpg
END:VEVENT
BEGIN:VEVENT
DTSTART;TZID=America/Denver:20210220T110000
DTEND;TZID=America/Denver:20210220T130000
DTSTAMP:20260423T140125
CREATED:20250721T202148Z
LAST-MODIFIED:20250721T205436Z
UID:22898-1613818800-1613826000@yupporg.com
SUMMARY:Learning to Love 2021
DESCRIPTION:Headline & Hook\nShare the Love This Valentine’s Weekend! ❤️\nVUP Community Development Corporation and New Birth partner to bless 75 families with essential gifts because love is an action. Join us in spreading hope and practical care! \nKey Details\n📅 Date: Saturday\, February 13\, 2021\n⏰ Time: 11:00 AM – 1:00 PM\n📍 Venue: New Birth Christian Center\n🏠 Address: 1234 William Miss Blvd\, Stockton\, CA \nEvent Highlights\n🎁 Outreach Giveaway: \n75 Families will receive: \nEssential needs (food\, hygiene kits\, etc.). \nValentine’s-themed gifts (toys\, books\, etc.). \n🤝 Community Collaboration: \nSponsors include Family Giving Tree\, YUPP Org\, New Mission CDC\, and New Birth. \nVolunteer opportunities for individuals/groups. \n💌 How to Participate: \nFor Recipients: Email admin@vupporg.com to apply. \nFor Sponsors/DONORS: Email shelene.booker@vupporg.com or bware@newbirthcommunitydev.com. \nWho Should Attend?\nFamilies in Need: Apply to receive blessings. \nSponsors/Volunteers: Give time or resources. \nCommunity Advocates: Witness grassroots impact. \nWhy This Matters\n✅ Timely Support: Valentine’s weekend = love in action.\n✅ Tangible Impact: Addresses critical needs with dignity.\n✅ Uniting Force: Churches + nonprofits working together. \n“Want to help? Sponsor a family or spread the word! ❤️ Email us today. #LearningToLove #StocktonGivesBack”
URL:https://yupporg.com/event/learning-to-love-single-celebration-outreach-giveaway/
ATTACH;FMTTYPE=image/jpeg:https://yupporg.com/wp-content/uploads/2025/07/IMG_1157.jpg
END:VEVENT
BEGIN:VEVENT
DTSTART;TZID=America/Denver:20200617T193000
DTEND;TZID=America/Denver:20200617T223000
DTSTAMP:20260423T140125
CREATED:20250721T211716Z
LAST-MODIFIED:20250721T211716Z
UID:22914-1592422200-1592433000@yupporg.com
SUMMARY:YUPP Org Poetry Slam\, Unleash Your Voice
DESCRIPTION:Headline & Hook\nWords Ignite. Voices Rise. 🎤✨\nYUPP Org invites you to an electrifying Poetry Slam where raw emotion meets artistry. Bring your verses\, your fire\, and your truth to the stage! \nKey Details\n📅 Date: June 10\n⏰ Time: 7:30 PM\n📍 Venue: California \nSlam Highlights\n✍️ For Poets: \nOpen Mic: 3–5 minute slots to share original work. \nSign-Up: Email yupporg@yahoo.com to secure your spot. \n🎉 For Audience: \nRaffles: Win prizes between performances. \nVibe: Intimate\, supportive\, and charged with creativity. \n🌟 Special Notes: \nFirst-timers encouraged! No experience needed. \nFamily-friendly. \nWho Should Attend?\nPoets: Seasoned or aspiring\, all voices matter. \nArt Lovers: Experience the power of spoken word. \nCommunity: Rally behind local talent. \nWhy This Slam?\n✅ Safe Space: Judgment-free zone for self-expression.\n✅ Raffle Thrills: Extra incentive to stay engaged.\n✅ Legacy: Part of YUPP’s mission to amplify voices. \n“Ready to slay the mic? Email yupporg@yahoo.com to sign up or just come to cheer! 🎤 #YUPPPoetrySlam”
URL:https://yupporg.com/event/yupp-org-poetry-slam-unleash-your-voice/
ATTACH;FMTTYPE=image/jpeg:https://yupporg.com/wp-content/uploads/2025/07/IMG_5023.jpg
END:VEVENT
BEGIN:VEVENT
DTSTART;TZID=America/Denver:20191123T170000
DTEND;TZID=America/Denver:20191123T210000
DTSTAMP:20260423T140125
CREATED:20250721T193656Z
LAST-MODIFIED:20250721T201610Z
UID:22880-1574528400-1574542800@yupporg.com
SUMMARY:BLAZE THE STAGE
DESCRIPTION:Headline & Hook\nIgnite Your Creativity & Style! 🔥\nYUPP Org presents Blaze the Stage. A fiery fusion of open mic performances and runway flair\, where local talent takes center stage. Whether you’re a performer\, designer\, or fan\, this is your night to shine! \nKey Details\n📅 Date: Saturday\, November 16\, 2019 (Note: Verify if this is current or archival)\n⏰ Time: 5:00 PM (Doors may open earlier)\n📍 Venue: Almaden Community Center\n🏠 Address: 6445 Camden Ave\, San Jose\, CA\n🎟️ Tickets: Available on Eventbrite (Search “Blaze the Stage YUPP Org”) \nEvent Highlights\n🎤 Open Mic: \nSingers\, poets\, comedians\, and storytellers—all talents welcome! \nFirst-come\, first-served slots (or pre-register if required). \n👗 Fashion Show: \nLocal designers and models showcase bold\, original styles. \nThemes could range from streetwear to avant-garde (specify if known). \n✨ Vibe: \nHigh-energy\, inclusive\, and celebratory. \nNetworking with artists\, designers\, and culture-makers. \nWho Should Attend?\nPerformers: Claim your moment in the spotlight. \nFashion Lovers: Discover emerging designers. \nCommunity: Support San Jose’s creative pulse. \n“Ready to blaze? Grab your tickets on Eventbrite—or sign up to perform! 🔥 #BlazeTheStage
URL:https://yupporg.com/event/blaze-the-stage-open-mic-fashion-show/
ATTACH;FMTTYPE=image/jpeg:https://yupporg.com/wp-content/uploads/2025/07/IMG_7143.jpg
END:VEVENT
BEGIN:VEVENT
DTSTART;TZID=America/Denver:20191123T130000
DTEND;TZID=America/Denver:20191123T160000
DTSTAMP:20260423T140125
CREATED:20250721T150947Z
LAST-MODIFIED:20250721T205504Z
UID:22878-1574514000-1574524800@yupporg.com
SUMMARY:LOOK WHAT LOVE HAS DONE 2019
DESCRIPTION:Headline & Hook\nA Night of Art\, Heart & Triumph! ✨\nYUPP Org invites you to Look What Love Has Done. An unforgettable celebration where performance and storytelling collide to honor a year of resilience\, growth\, and extraordinary community. \nKey Details\n📅 Date: Saturday\, November 16\, 2019\n⏰ Time: !pm\n📍 Venue: Logos Christian Fellowship\n🏠 Address: 4801 Alum Rock Avenue #15\, San Jose\, CA 95127 \nEvent Highlights\n🎭 Unmissable Performances: \n\nYUPP Community & Special Guests: Music\, dance\, spoken word\, and theatrical acts.\nTheme: Reflecting on love’s transformative power through art.\n\n💖 Inspirational Touchstones: \n\nOprah’s Wisdom: The event’s mantra (“You are built to blossom into more…”) sets the tone.\nInteractive Moments: Audience participation or post-show discussions (if applicable).\n\n🎉 Celebration of Community: \n\n\nA tribute to the people and stories that shaped YUPP’s year. \n\n\nWhy Attend?\n✅ Soul-Fueling Art: Uplifting content to reignite your spirit.\n✅ Local Talent Shines: Support San Jose’s creative heartbeat.\n✅ Perfect for: Families\, art lovers\, and anyone needing a dose of joy. \n“Don’t miss this love letter to our community! RSVP now—seats will fill fast. 💌 #LookWhatLoveHasDone #YuppOrg”
URL:https://yupporg.com/event/look-what-love-has-done-annual-production/
ATTACH;FMTTYPE=image/jpeg:https://yupporg.com/wp-content/uploads/2025/07/IMG_1915-scaled.jpg
END:VEVENT
BEGIN:VEVENT
DTSTART;TZID=America/Denver:20190930T183000
DTEND;TZID=America/Denver:20190930T200000
DTSTAMP:20260423T140125
CREATED:20250721T210717Z
LAST-MODIFIED:20250721T210901Z
UID:22913-1569868200-1569873600@yupporg.com
SUMMARY:Light It Up\, School of Ministry & Infused Arts Season Kickoff
DESCRIPTION:Headline & Hook\nIgnite Your Calling Creatively! ✨🎭\nYUPP Org invites you to the Light It Up Season Kickoff. a dual-event launch for the School of Ministry and Infused Arts programs. Discover how faith and creativity collide to empower the next generation! \nKey Details\n📍 Venue: Mission City Church\n🏠 Address: 1290 Pomeroy Ave\, Santa Clara\, CA \n📅 Event #1: School of Ministry Launch \nDate: Monday\, September 23 \nTime: 6:30 PM \nFocus: Spiritual training\, leadership development\, and ministry tools. \n📅 Event #2: Infused Arts Launch \nDate: Monday\, October 7 \nTime: 6:30 PM \nFocus: Arts integration (music\, drama\, dance) with faith-based expression. \nEvent Highlights\n🎓 School of Ministry: \nCurriculum preview and student testimonies. \nGuest speakers or worship sessions. \n🎨 Infused Arts: \nLive performances showcasing the program’s impact. \nInteractive workshops or Q&A with instructors. \n🌟 Shared Vision: \nLearn how both programs equip youth spiritually and artistically. \nNetworking with like-minded creatives and leaders. \nWho Should Attend?\nAspiring Ministers: Explore training opportunities. \nArtists of Faith: Merge your gifts with purpose. \nParents & Mentors: Support youth development. \nWhy Attend?\n✅ Dual Impact: Two launches\, one transformative mission.\n✅ First Look: Exclusive insights into the new season.\n✅ Community: Connect with YUPP’s vibrant ecosystem. \n“Mark your calendars! September 23 and October 7 be there as we light the way. 🔥 #LightItUp #FaithMeetsArts”
URL:https://yupporg.com/event/light-it-up-school-of-ministry-infused-arts-season-kickoff/
ATTACH;FMTTYPE=image/jpeg:https://yupporg.com/wp-content/uploads/2025/07/IMG_2487.jpg
END:VEVENT
BEGIN:VEVENT
DTSTART;TZID=America/Denver:20181125T170000
DTEND;TZID=America/Denver:20181125T200000
DTSTAMP:20260423T140125
CREATED:20250721T130846Z
LAST-MODIFIED:20250721T131522Z
UID:22856-1543165200-1543176000@yupporg.com
SUMMARY:Running After You 2018
DESCRIPTION:Event Overview\nTitle: Running After You 2018\nPresented by: The YUPP Family\nTheme: A Celebration of Resilience\, Retreat & Hope\nObjective: An immersive artistic experience combining live performance\, storytelling\, and music to reflect on a transformative year culminating in the release of two highly anticipated singles. \n2. Key Details\n\nDate: Saturday\, November 18\, 2018\nTime: 5:00 PM – 8:00 PM\nVenue: Evergreen Valley College Performing Arts Center\nAddress: 3095 Yerba Buena Rd\, San Jose\, CA 95135\n\n3. Event Highlights\n✨ Creative Showcase: \n\nDynamic performances by YUPP members\, blending theater\, dance\, and spoken word to narrate a year of resilience.\nWorld Premieres: Two new singles debuted live—audiences will be the first to experience these tracks!\n\n🎭 Thematic Depth: \n\nA journey through personal and collective stories of struggle\, retreat\, and renewed hope.\nInteractive moments to engage the audience in reflection.\n\n🎶 Musical Celebration: \n\nLive renditions of fan favorites alongside the new releases.\nPost-show meet-and-greet opportunities (if applicable).\n\n4. Why Attend?\n\nExclusivity: Be among the first to hear YUPP’s new music.\n\nEmotional Resonance: A rare blend of artistry and vulnerability that inspires connection. \nCommunity: Celebrate with the YUPP family and fellow supporters in a vibrant\, shared space. \n5. Audience & Atmosphere\n\nFor: Art lovers\, music enthusiasts\, and anyone seeking inspiration.\nVibe: Uplifting\, intimate\, and creatively charged.\n\n“Don’t miss this unforgettable night of art\, music\, and heart. Secure your tickets today. Let’s run toward hope together!”
URL:https://yupporg.com/event/running-after-you-2018/
ATTACH;FMTTYPE=image/jpeg:https://yupporg.com/wp-content/uploads/2025/07/Running-After-You-scaled.jpeg
END:VEVENT
BEGIN:VEVENT
DTSTART;TZID=America/Denver:20180803T170000
DTEND;TZID=America/Denver:20180805T200000
DTSTAMP:20260423T140125
CREATED:20250721T195050Z
LAST-MODIFIED:20250721T201621Z
UID:22882-1533315600-1533499200@yupporg.com
SUMMARY:RECORDING RETREAT
DESCRIPTION:Headline & Hook\nUnleash Your Sound. Find Your Voice. 🎶\nElevate Youth California presents the Recording Retreat. A transformative experience for aspiring artists\, funded by Proposition 64. Dive into music production\, vocal mastery\, and creative collaboration in an inspiring retreat setting. \nKey Details\n📅 Date: 27th – 29th July\, 2018 \n⏰ Time: weekend retreat \n📍 Location: California \nRetreat Highlights\n🎧 Creative Immersion: \nHands-on recording sessions with industry-standard equipment. \nVocal coaching\, beat-making workshops\, and lyric-writing labs. \n🌟 Mentorship & Networking: \nLearn from professional producers and artists. \nCollaborate with like-minded peers in a supportive environment. \n💡 Unique Opportunity: \nFunded by Proposition 64—prioritizing underserved youth in California. \nPerformance showcase. \n4. Who Should Attend?\nAges 14–25: Aspiring singers\, rappers\, producers\, and songwriters. \nEducators/Advocates: Connect with youth arts initiatives. \n5. Why This Matters\n✅ No-Cost Access: Fully funded for eligible participants.\n✅ Career Pathways: Bridge the gap between passion and profession.\n✅ Community: Join a movement elevating youth voices. \n“Ready to amplify your talent? Apply now—spaces are limited! 🎤 #RecordingRetreat #ElevateYouthCA”
URL:https://yupporg.com/event/recording-retreat-elevate-youth-california/
ATTACH;FMTTYPE=image/jpeg:https://yupporg.com/wp-content/uploads/2025/07/RecordingRetreat-FINALFINAL-scaled.jpg
END:VEVENT
BEGIN:VEVENT
DTSTART;TZID=America/Denver:20180311T130000
DTEND;TZID=America/Denver:20180311T150000
DTSTAMP:20260423T140125
CREATED:20250721T203628Z
LAST-MODIFIED:20250721T203742Z
UID:22903-1520773200-1520780400@yupporg.com
SUMMARY:YUPP Org Brand Relaunch Celebration
DESCRIPTION:Headline & Hook\nA New Era Begins! 🎉✨ \nYUPP Org Brand Relaunch Celebration\nJoin YUPP Org for an unforgettable evening as we unveil our bold new brand identity\, complete with fresh vision\, community vibes\, and local flavors at Forager Tasting Room & Eatery. \nKey Details\n📅 Date: Sunday\, March 4\, 2018\n⏰ Time: 1pm – 3pm\n📍 Venue: Forager Tasting Room & Eatery\n🏠 Address: 420 South First Street\, San Jose\, CA 95172 \nEvent Highlights\n🔄 Brand Reveal: \nFirst look at YUPP Org’s new logo\, mission\, and programs. \nSpeeches from founders or key community leaders. \n🍽️ Local Bites & Brews: \nCurated food/drink pairings by Forager \n🎶 Vibe & Networking: \nChill beats\, mingling\, and photo ops with brand visuals. \nMeet the team behind YUPP’s next chapter. \nWho Should Attend?\nSupporters: Donors\, partners\, and longtime advocates. \nLocal Businesses: Potential collaborators. \nMedia/Influencers: Cover the relaunch! \nWhy This Matters\n✅ Fresh Start: See how YUPP evolves to serve the community better.\n✅ Taste + Purpose: Savor local flavors while supporting a cause.\n✅ Exclusive First Look: Be part of the reveal before it goes public. \n“Save the date! RSVP now to secure your spot at the party where mission meets merriment. 🥂 #YUPPReloaded #SanJoseEvents”
URL:https://yupporg.com/event/yupp-org-brand-relaunch-celebration/
ATTACH;FMTTYPE=image/png:https://yupporg.com/wp-content/uploads/2025/07/IMG_1598.png
END:VEVENT
END:VCALENDAR