BEGIN:VCALENDAR
VERSION:2.0
PRODID:-//Youth Utilizing Power and Praise - ECPv6.15.20//NONSGML v1.0//EN
CALSCALE:GREGORIAN
METHOD:PUBLISH
X-WR-CALNAME:Youth Utilizing Power and Praise
X-ORIGINAL-URL:https://yupporg.com
X-WR-CALDESC:Events for Youth Utilizing Power and Praise
REFRESH-INTERVAL;VALUE=DURATION:PT1H
X-Robots-Tag:noindex
X-PUBLISHED-TTL:PT1H
BEGIN:VTIMEZONE
TZID:America/Denver
BEGIN:DAYLIGHT
TZOFFSETFROM:-0700
TZOFFSETTO:-0600
TZNAME:MDT
DTSTART:20170312T090000
END:DAYLIGHT
BEGIN:STANDARD
TZOFFSETFROM:-0600
TZOFFSETTO:-0700
TZNAME:MST
DTSTART:20171105T080000
END:STANDARD
BEGIN:DAYLIGHT
TZOFFSETFROM:-0700
TZOFFSETTO:-0600
TZNAME:MDT
DTSTART:20180311T090000
END:DAYLIGHT
BEGIN:STANDARD
TZOFFSETFROM:-0600
TZOFFSETTO:-0700
TZNAME:MST
DTSTART:20181104T080000
END:STANDARD
BEGIN:DAYLIGHT
TZOFFSETFROM:-0700
TZOFFSETTO:-0600
TZNAME:MDT
DTSTART:20190310T090000
END:DAYLIGHT
BEGIN:STANDARD
TZOFFSETFROM:-0600
TZOFFSETTO:-0700
TZNAME:MST
DTSTART:20191103T080000
END:STANDARD
END:VTIMEZONE
BEGIN:VEVENT
DTSTART;TZID=America/Denver:20180311T130000
DTEND;TZID=America/Denver:20180311T150000
DTSTAMP:20260425T050642
CREATED:20250721T203628Z
LAST-MODIFIED:20250721T203742Z
UID:22903-1520773200-1520780400@yupporg.com
SUMMARY:YUPP Org Brand Relaunch Celebration
DESCRIPTION:Headline & Hook\nA New Era Begins! 🎉✨ \nYUPP Org Brand Relaunch Celebration\nJoin YUPP Org for an unforgettable evening as we unveil our bold new brand identity\, complete with fresh vision\, community vibes\, and local flavors at Forager Tasting Room & Eatery. \nKey Details\n📅 Date: Sunday\, March 4\, 2018\n⏰ Time: 1pm – 3pm\n📍 Venue: Forager Tasting Room & Eatery\n🏠 Address: 420 South First Street\, San Jose\, CA 95172 \nEvent Highlights\n🔄 Brand Reveal: \nFirst look at YUPP Org’s new logo\, mission\, and programs. \nSpeeches from founders or key community leaders. \n🍽️ Local Bites & Brews: \nCurated food/drink pairings by Forager \n🎶 Vibe & Networking: \nChill beats\, mingling\, and photo ops with brand visuals. \nMeet the team behind YUPP’s next chapter. \nWho Should Attend?\nSupporters: Donors\, partners\, and longtime advocates. \nLocal Businesses: Potential collaborators. \nMedia/Influencers: Cover the relaunch! \nWhy This Matters\n✅ Fresh Start: See how YUPP evolves to serve the community better.\n✅ Taste + Purpose: Savor local flavors while supporting a cause.\n✅ Exclusive First Look: Be part of the reveal before it goes public. \n“Save the date! RSVP now to secure your spot at the party where mission meets merriment. 🥂 #YUPPReloaded #SanJoseEvents”
URL:https://yupporg.com/event/yupp-org-brand-relaunch-celebration/
ATTACH;FMTTYPE=image/png:https://yupporg.com/wp-content/uploads/2025/07/IMG_1598.png
END:VEVENT
END:VCALENDAR