BEGIN:VCALENDAR
VERSION:2.0
PRODID:-//Youth Utilizing Power and Praise - ECPv6.15.20//NONSGML v1.0//EN
CALSCALE:GREGORIAN
METHOD:PUBLISH
X-ORIGINAL-URL:https://yupporg.com
X-WR-CALDESC:Events for Youth Utilizing Power and Praise
REFRESH-INTERVAL;VALUE=DURATION:PT1H
X-Robots-Tag:noindex
X-PUBLISHED-TTL:PT1H
BEGIN:VTIMEZONE
TZID:America/Denver
BEGIN:DAYLIGHT
TZOFFSETFROM:-0700
TZOFFSETTO:-0600
TZNAME:MDT
DTSTART:20220313T090000
END:DAYLIGHT
BEGIN:STANDARD
TZOFFSETFROM:-0600
TZOFFSETTO:-0700
TZNAME:MST
DTSTART:20221106T080000
END:STANDARD
BEGIN:DAYLIGHT
TZOFFSETFROM:-0700
TZOFFSETTO:-0600
TZNAME:MDT
DTSTART:20230312T090000
END:DAYLIGHT
BEGIN:STANDARD
TZOFFSETFROM:-0600
TZOFFSETTO:-0700
TZNAME:MST
DTSTART:20231105T080000
END:STANDARD
BEGIN:DAYLIGHT
TZOFFSETFROM:-0700
TZOFFSETTO:-0600
TZNAME:MDT
DTSTART:20240310T090000
END:DAYLIGHT
BEGIN:STANDARD
TZOFFSETFROM:-0600
TZOFFSETTO:-0700
TZNAME:MST
DTSTART:20241103T080000
END:STANDARD
END:VTIMEZONE
BEGIN:VEVENT
DTSTART;TZID=America/Denver:20230506T120000
DTEND;TZID=America/Denver:20230506T133000
DTSTAMP:20260425T223354
CREATED:20250721T135124Z
LAST-MODIFIED:20250721T205854Z
UID:22858-1683374400-1683379800@yupporg.com
SUMMARY:Spring Recital 2023
DESCRIPTION:Event Overview\nTitle: Spring Recital\nPresented by: Light It Up School of the Arts\nTheme: A Celebration of Growth & Artistic Transformation\nObjective: Showcase the hard work and progress of students after a winter season of learning\, offering the community a vibrant display of talent and dedication. \nKey Details\n\nDate: Saturday\, April 29th\, 2023\nTime: 12:00 PM – 1:30 PM\nVenue: Mission City Church\nAddress: 1290 Pomeroy Avenue\, Santa Clara\, CA 95051\nTicket Cost: $10 (Affordable access to support the arts!)\n\n3. Event Highlights\n🎭 Student Showcase: \n\nLive performances across disciplines (music\, dance\, theater\, etc.).\nA curated selection of pieces highlighting technical skill and creative expression.\n\n🌟 Transformative Journey: \n\nWitness the evolution of students as they present polished works developed over the winter season.\nShort speeches or video interludes sharing behind-the-scenes growth (if applicable).\n\n🎟️ Community Support: \n\nProceeds contribute to arts programs\nPost-recital meet-and-greet with students and instructors.\n\n4. Why Attend?\n\nInspiration: See budding artists shine in a supportive\, professional setting.\nAffordable Entertainment: A high-value cultural experience for just $10.\nCommunity Connection: Celebrate local talent and the power of arts education.\n\n5. Audience & Atmosphere\n\nFor: Families\, art enthusiasts\, educators\, and supporters of youth development.\nVibe: Uplifting\, encouraging\, and celebratory.\n\n“Come light up the stage with us! Cheer on our students as they share their artistic journey. Tickets are just $10. reserve yours today!”
URL:https://yupporg.com/event/spring-recital-light-it-up-school-of-the-arts/
ATTACH;FMTTYPE=image/jpeg:https://yupporg.com/wp-content/uploads/2025/07/Spring-Recital-1-scaled.jpg
END:VEVENT
BEGIN:VEVENT
DTSTART;TZID=America/Denver:20230513T110000
DTEND;TZID=America/Denver:20230513T140000
DTSTAMP:20260425T223354
CREATED:20250721T195948Z
LAST-MODIFIED:20250721T195948Z
UID:22885-1683975600-1683986400@yupporg.com
SUMMARY:WORSHIP IN THE MOUNTAINS
DESCRIPTION:Headline & Hook\nElevate Your Spirit in the Santa Cruz Mountains 🏔️✨\nYUPP Org invites you to Worship in the Mountains. A day of fasting\, prayer\, and artistic worship surrounded by the breathtaking beauty of nature. Reconnect\, renew\, and find liberation through music\, dance\, and poetry. \nKey Details\n📅 Date: Saturday\, May 6\, 2023\n⏰ Time: 11:00 AM – 2:00 PM\n📍 Venue: Mountain of the World\n🏠 Address: 997 Lockhart Gulch Rd\, Scotts Valley\, CA 95066\n🎟️ Cost: FREE \nRetreat Highlights\n🙏 Spiritual & Artistic Immersion: \nWorship Sessions: Led by singers\, dancers\, and poets. \nPrayer & Fasting: A collective journey of reflection and renewal. \nScenic Sanctuary: Unplug in the serene Santa Cruz Mountains. \n🎭 Creative Worship: \nLive performances to inspire a “renewing and liberating atmosphere.” \nInteractive moments for attendees to engage artistically. \n🌿 Nature’s Backdrop: \nHiking or quiet meditation spots. \nFamily-friendly and open to all faiths. \nWho Should Attend?\nSpiritual seekers craving a retreat from urban chaos. \nArtists who want to worship through their craft. \nFamilies or individuals needing a day of peace and inspiration. \nWhy This Retreat Stands Out\n✅ Zero Cost: Accessible to everyone.\n✅ Unique Blend: Art + faith + nature = transformative experience.\n✅ Inclusivity: “Everyone is welcome!” \n“Leave the noise behind. Join us May 6 in Scotts Valley\, no registration needed\, just an open heart. 🌲 #WorshipInTheMountains
URL:https://yupporg.com/event/worship-in-the-mountains/
ATTACH;FMTTYPE=image/png:https://yupporg.com/wp-content/uploads/2025/07/WorshipInTheMountains.png
END:VEVENT
END:VCALENDAR