BEGIN:VCALENDAR
VERSION:2.0
PRODID:-//Youth Utilizing Power and Praise - ECPv6.15.20//NONSGML v1.0//EN
CALSCALE:GREGORIAN
METHOD:PUBLISH
X-WR-CALNAME:Youth Utilizing Power and Praise
X-ORIGINAL-URL:https://yupporg.com
X-WR-CALDESC:Events for Youth Utilizing Power and Praise
REFRESH-INTERVAL;VALUE=DURATION:PT1H
X-Robots-Tag:noindex
X-PUBLISHED-TTL:PT1H
BEGIN:VTIMEZONE
TZID:America/Denver
BEGIN:DAYLIGHT
TZOFFSETFROM:-0700
TZOFFSETTO:-0600
TZNAME:MDT
DTSTART:20220313T090000
END:DAYLIGHT
BEGIN:STANDARD
TZOFFSETFROM:-0600
TZOFFSETTO:-0700
TZNAME:MST
DTSTART:20221106T080000
END:STANDARD
BEGIN:DAYLIGHT
TZOFFSETFROM:-0700
TZOFFSETTO:-0600
TZNAME:MDT
DTSTART:20230312T090000
END:DAYLIGHT
BEGIN:STANDARD
TZOFFSETFROM:-0600
TZOFFSETTO:-0700
TZNAME:MST
DTSTART:20231105T080000
END:STANDARD
BEGIN:DAYLIGHT
TZOFFSETFROM:-0700
TZOFFSETTO:-0600
TZNAME:MDT
DTSTART:20240310T090000
END:DAYLIGHT
BEGIN:STANDARD
TZOFFSETFROM:-0600
TZOFFSETTO:-0700
TZNAME:MST
DTSTART:20241103T080000
END:STANDARD
END:VTIMEZONE
BEGIN:VEVENT
DTSTART;TZID=America/Denver:20230704T160000
DTEND;TZID=America/Denver:20230706T200000
DTSTAMP:20260425T195341
CREATED:20250721T141121Z
LAST-MODIFIED:20250721T201523Z
UID:22865-1688486400-1688673600@yupporg.com
SUMMARY:TEACH ME HOW TO PLAY AND PRAY 2024
DESCRIPTION:Headline & Hook\nNurture Your Art and Soul 🎨🙏\nYUPP Org + BWARE Productions invite young creatives to the 3rd Annual TEACH ME HOW TO PLAY AND PRAY Conference a transformative space where artistry meets spirituality. \n2. Key Details\n📅 Date: June 27–29\, 2024\n📍 Venue: FamilyLife Church\n🏠 Address: 801 Hellyer Avenue\, San Jose\, CA 95111 \n3. Event Highlights\n✨ Special Guests: \n\nIndustry Icons: Sam Talbert\, Warren Brown\, Shawn Brown\, Ashli Fisher\, Steve Lawrence\, Charles Ware Jr.\, Dasha Moore\, Calee Carroll\, and more!\nKeynote Sessions: Wisdom from artists who’ve mastered the balance of craft and purpose.\n\n🔥 Interactive Experiences: \n\nWorkshops on creativity\, mental wellness\, and faith integration.\nLive performances + collaborative art projects.\nNetworking with like-minded visionaries.\n\n🙌 Unique Angle: \n\n\nFocus on soul care as the foundation of great artistry (per event tagline). \n\n\n4. Who Should Attend?\n\nYoung artists (18–35) in music\, visual arts\, writing\, etc.\nMentors\, educators\, or anyone “young at heart” seeking creative renewal.\n\n5. Why This Matters\n✅ Holistic Growth: Rare fusion of skill-building and spiritual development.\n✅ Star Power: Learn directly from accomplished guest artists.\n✅ Community: Build lifelong connections in a faith-friendly space. \n“Ready to elevate your craft from the inside out? Register now. Seats fill fast! #TMHTPAP2024 #ArtAndSoul”
URL:https://yupporg.com/event/teach-me-how-to-play-and-pray-2024/
ATTACH;FMTTYPE=image/jpeg:https://yupporg.com/wp-content/uploads/2025/07/TMHTPAP-2024-OFFICIALFLYER.jpg
END:VEVENT
END:VCALENDAR