BEGIN:VCALENDAR
VERSION:2.0
PRODID:-//Youth Utilizing Power and Praise - ECPv6.15.20//NONSGML v1.0//EN
CALSCALE:GREGORIAN
METHOD:PUBLISH
X-ORIGINAL-URL:https://yupporg.com
X-WR-CALDESC:Events for Youth Utilizing Power and Praise
REFRESH-INTERVAL;VALUE=DURATION:PT1H
X-Robots-Tag:noindex
X-PUBLISHED-TTL:PT1H
BEGIN:VTIMEZONE
TZID:America/Denver
BEGIN:DAYLIGHT
TZOFFSETFROM:-0700
TZOFFSETTO:-0600
TZNAME:MDT
DTSTART:20220313T090000
END:DAYLIGHT
BEGIN:STANDARD
TZOFFSETFROM:-0600
TZOFFSETTO:-0700
TZNAME:MST
DTSTART:20221106T080000
END:STANDARD
BEGIN:DAYLIGHT
TZOFFSETFROM:-0700
TZOFFSETTO:-0600
TZNAME:MDT
DTSTART:20230312T090000
END:DAYLIGHT
BEGIN:STANDARD
TZOFFSETFROM:-0600
TZOFFSETTO:-0700
TZNAME:MST
DTSTART:20231105T080000
END:STANDARD
BEGIN:DAYLIGHT
TZOFFSETFROM:-0700
TZOFFSETTO:-0600
TZNAME:MDT
DTSTART:20240310T090000
END:DAYLIGHT
BEGIN:STANDARD
TZOFFSETFROM:-0600
TZOFFSETTO:-0700
TZNAME:MST
DTSTART:20241103T080000
END:STANDARD
END:VTIMEZONE
BEGIN:VEVENT
DTSTART;TZID=America/Denver:20230817T150000
DTEND;TZID=America/Denver:20230817T183000
DTSTAMP:20260425T182746
CREATED:20250721T091453Z
LAST-MODIFIED:20250721T092901Z
UID:22846-1692284400-1692297000@yupporg.com
SUMMARY:YUPP Fest 2023: Empowering the Next Generation Through the Arts
DESCRIPTION:🎉 YUPP Fest 2023: Empowering the Next Generation Through the Arts\n📅 Date: August 10\, 2023\n🕓 Time: 3:00 PM – 6:30 PM\n📍 Location: 6200 Brooklyn Bridge Blvd\, Brooklyn\, NY 11203\n✨ Event Overview\nYUPP Fest 2023 is more than just an event. It’s a cultural celebration\, creative showcase\, and community experience rolled into one. Hosted by YUPP (Youth Utilizing Power and Praise)\, this event empowers the next generation through the transformative power of music\, dance\, spoken word\, drama\, visual arts\, and sports. \nAttendees will be immersed in an afternoon of live performances\, interactive exhibits\, youth expression\, and meaningful fellowship\, all focused on cultivating identity\, leadership\, and unity through the arts. \n🎭 What to Expect\n\nLive Performances: Powerful music\, soulful dance\, dramatic storytelling\, and captivating spoken word.\nCommunity Showcases: Experience the rich diversity of talent from across our youth programs and partner networks.\nCreative Booths & Activities: Interactive art stations\, games\, sports segments\, and opportunities to support our youth-led initiatives.\nInspiration & Empowerment: Be part of something bigger where young voices are not only heard but celebrated and equipped to lead.\n\n🙌 Why It Matters\nYUPP Fest is not just entertainment\, it’s transformation in action. By channeling the creativity of youth into purpose-driven expression\, we help build confidence\, encourage cross-cultural understanding\, and develop future leaders who walk in power and praise. \n🎟️ Admission\nFREE – but registration is encouraged!📲 Scan the QR code on our flyer or Click Here to Register \n🔗 Connect with Us\nFollow us on social media @YuppOrg for updates\, highlights\, and behind-the-scenes moments. \nLet’s ignite a movement where creativity meets community and purpose meets passion.
URL:https://yupporg.com/event/yupp-fest-2023-empowering-the-next-generation-through-the-arts/
ATTACH;FMTTYPE=image/png:https://yupporg.com/wp-content/uploads/2025/07/22D64B8C-64A4-42B2-984A-03749F7402CD.png
END:VEVENT
END:VCALENDAR