BEGIN:VCALENDAR
VERSION:2.0
PRODID:-//Youth Utilizing Power and Praise - ECPv6.15.20//NONSGML v1.0//EN
CALSCALE:GREGORIAN
METHOD:PUBLISH
X-ORIGINAL-URL:https://yupporg.com
X-WR-CALDESC:Events for Youth Utilizing Power and Praise
REFRESH-INTERVAL;VALUE=DURATION:PT1H
X-Robots-Tag:noindex
X-PUBLISHED-TTL:PT1H
BEGIN:VTIMEZONE
TZID:America/Denver
BEGIN:DAYLIGHT
TZOFFSETFROM:-0700
TZOFFSETTO:-0600
TZNAME:MDT
DTSTART:20240310T090000
END:DAYLIGHT
BEGIN:STANDARD
TZOFFSETFROM:-0600
TZOFFSETTO:-0700
TZNAME:MST
DTSTART:20241103T080000
END:STANDARD
BEGIN:DAYLIGHT
TZOFFSETFROM:-0700
TZOFFSETTO:-0600
TZNAME:MDT
DTSTART:20250309T090000
END:DAYLIGHT
BEGIN:STANDARD
TZOFFSETFROM:-0600
TZOFFSETTO:-0700
TZNAME:MST
DTSTART:20251102T080000
END:STANDARD
BEGIN:DAYLIGHT
TZOFFSETFROM:-0700
TZOFFSETTO:-0600
TZNAME:MDT
DTSTART:20260308T090000
END:DAYLIGHT
BEGIN:STANDARD
TZOFFSETFROM:-0600
TZOFFSETTO:-0700
TZNAME:MST
DTSTART:20261101T080000
END:STANDARD
END:VTIMEZONE
BEGIN:VEVENT
DTSTART;TZID=America/Denver:20251011T170000
DTEND;TZID=America/Denver:20251011T210000
DTSTAMP:20260423T162407
CREATED:20251005T095017Z
LAST-MODIFIED:20251005T095017Z
UID:23686-1760202000-1760216400@yupporg.com
SUMMARY:Teach Me How To Play & Pray Conference 2025
DESCRIPTION:Get ready for an inspiring\, faith-filled experience at the Teach Me How To Play & Pray Conference\, a powerful day event designed to uplift\, equip\, and connect! \n🎟️ Special Ticket Offer — This Weekend Only!\n🔥 Two-for-One Special✨ Half Off Single Registrations \nTake advantage of this limited-time deal happening this weekend only and secure your spot at an unforgettable event. \n🎉 Bonus Gift: Free Concert Access\nAs part of an extended birthday celebration\, everyone who registers before the event will receive FREE entry to the conference concert!🎟️ Concert tickets will also be available at the door for $20. \n📲 Register Now\nScan the QR code or click the link in our bio to grab your tickets today.Don’t miss this chance to grow\, celebrate\, and worship together. 🙌🏾
URL:https://yupporg.com/event/teach-me-how-to-play-pray-conference-2025/
ATTACH;FMTTYPE=image/jpeg:https://yupporg.com/wp-content/uploads/2025/10/SaveClip.App_559029063_18501507031070694_1673494289256945178_n.jpg
END:VEVENT
END:VCALENDAR